BEGIN:VCALENDAR
VERSION:2.0
PRODID:-//Goldgrube//myauktion.com//AT
CALSCALE:GREGORIAN
BEGIN:VEVENT
DTSTART:20260503T152600
DTEND:20260503T152630
LOCATION:Gewerbepark 13, 8562 Mooskirchen
DTSTAMP:20260419T151132
SUMMARY:MyAuktion: Ablauf Artikel Nr. 960553 Lalea D(+) Galactose 1kg 
URL;VALUE=URI:https://www.myauktion.com/versteigerung7641-position2439201-lalea-d--galactose-1kg.php
DESCRIPTION:MHD 07.2029 
UID:myauktion-7641-2439201
BEGIN:VALARM
ACTION:DISPLAY
DESCRIPTION:MHD 07.2029 
TRIGGER:-PT10M
END:VALARM
END:VEVENT
END:VCALENDAR