BEGIN:VCALENDAR
VERSION:2.0
PRODID:-//Goldgrube//myauktion.com//AT
CALSCALE:GREGORIAN
BEGIN:VEVENT
DTSTART:20260503T151200
DTEND:20260503T151230
LOCATION:Gewerbepark 13, 8562 Mooskirchen
DTSTAMP:20260419T192351
SUMMARY:MyAuktion: Ablauf Artikel Nr. 959876 Villa Babywasser 3x1l 
URL;VALUE=URI:https://www.myauktion.com/versteigerung7641-position2439205-villa-babywasser-3x1l.php
DESCRIPTION:MHD: 21/04/27
UID:myauktion-7641-2439205
BEGIN:VALARM
ACTION:DISPLAY
DESCRIPTION:MHD: 21/04/27
TRIGGER:-PT10M
END:VALARM
END:VEVENT
END:VCALENDAR