BEGIN:VCALENDAR
VERSION:2.0
PRODID:-//Goldgrube//myauktion.com//AT
CALSCALE:GREGORIAN
BEGIN:VEVENT
DTSTART:20260503T152700
DTEND:20260503T152730
LOCATION:Gewerbepark 13, 8562 Mooskirchen
DTSTAMP:20260419T192342
SUMMARY:MyAuktion: Ablauf Artikel Nr. 960596 Diverse Lebensmittel 
URL;VALUE=URI:https://www.myauktion.com/versteigerung7641-position2439206-diverse-lebensmittel.php
DESCRIPTION:MHD 07.2026
UID:myauktion-7641-2439206
BEGIN:VALARM
ACTION:DISPLAY
DESCRIPTION:MHD 07.2026
TRIGGER:-PT10M
END:VALARM
END:VEVENT
END:VCALENDAR