BEGIN:VCALENDAR
VERSION:2.0
PRODID:-//Goldgrube//myauktion.com//AT
CALSCALE:GREGORIAN
BEGIN:VEVENT
DTSTART:20260503T153400
DTEND:20260503T153430
LOCATION:Gewerbepark 13, 8562 Mooskirchen
DTSTAMP:20260419T205715
SUMMARY:MyAuktion: Ablauf Artikel Nr. 962228 Hallstein Artesian Water ca. 20L 
URL;VALUE=URI:https://www.myauktion.com/versteigerung7641-position2439210-hallstein-artesian-water-ca-20l.php
DESCRIPTION:MHD nicht ersichtlich
UID:myauktion-7641-2439210
BEGIN:VALARM
ACTION:DISPLAY
DESCRIPTION:MHD nicht ersichtlich
TRIGGER:-PT10M
END:VALARM
END:VEVENT
END:VCALENDAR