BEGIN:VCALENDAR
VERSION:2.0
PRODID:-//Goldgrube//myauktion.com//AT
CALSCALE:GREGORIAN
BEGIN:VEVENT
DTSTART:20260503T154100
DTEND:20260503T154130
LOCATION:Gewerbepark 13, 8562 Mooskirchen
DTSTAMP:20260419T192342
SUMMARY:MyAuktion: Ablauf Artikel Nr. 962229 Aloe Vera Zumo ecològico Complemento Alimentico 500ml 
URL;VALUE=URI:https://www.myauktion.com/versteigerung7641-position2439220-aloe-vera-zumo-ecologico-complemento-alimentico-500ml.php
DESCRIPTION:MHD 31.01.2028 
UID:myauktion-7641-2439220
BEGIN:VALARM
ACTION:DISPLAY
DESCRIPTION:MHD 31.01.2028 
TRIGGER:-PT10M
END:VALARM
END:VEVENT
END:VCALENDAR