BEGIN:VCALENDAR
VERSION:2.0
PRODID:-//Goldgrube//myauktion.com//AT
CALSCALE:GREGORIAN
BEGIN:VEVENT
DTSTART:20260503T154500
DTEND:20260503T154530
LOCATION:Gewerbepark 13, 8562 Mooskirchen
DTSTAMP:20260419T151130
SUMMARY:MyAuktion: Ablauf Artikel Nr. 962244 Original Kalea Bier Adventskalender 24x0,33L 
URL;VALUE=URI:https://www.myauktion.com/versteigerung7641-position2439221-original-kalea-bier-adventskalender-24x033l.php
DESCRIPTION:MHD nicht ersichtlich
UID:myauktion-7641-2439221
BEGIN:VALARM
ACTION:DISPLAY
DESCRIPTION:MHD nicht ersichtlich
TRIGGER:-PT10M
END:VALARM
END:VEVENT
END:VCALENDAR