BEGIN:VCALENDAR
VERSION:2.0
PRODID:-//Goldgrube//myauktion.com//AT
CALSCALE:GREGORIAN
BEGIN:VEVENT
DTSTART:20260503T154600
DTEND:20260503T154630
LOCATION:Gewerbepark 13, 8562 Mooskirchen
DTSTAMP:20260419T162733
SUMMARY:MyAuktion: Ablauf Artikel Nr. 962250 Teekanne Schwarzer Tee je 25x2g 
URL;VALUE=URI:https://www.myauktion.com/versteigerung7641-position2439222-teekanne-schwarzer-tee-je-25x2g.php
DESCRIPTION:MHD 06.2027 / Verpackung beschädigt 
UID:myauktion-7641-2439222
BEGIN:VALARM
ACTION:DISPLAY
DESCRIPTION:MHD 06.2027 / Verpackung beschädigt 
TRIGGER:-PT10M
END:VALARM
END:VEVENT
END:VCALENDAR