BEGIN:VCALENDAR
VERSION:2.0
PRODID:-//Goldgrube//myauktion.com//AT
CALSCALE:GREGORIAN
BEGIN:VEVENT
DTSTART:20260503T155700
DTEND:20260503T155730
LOCATION:Gewerbepark 13, 8562 Mooskirchen
DTSTAMP:20260419T142650
SUMMARY:MyAuktion: Ablauf Artikel Nr. 962272 Hornet Honey Stencil 250ml - Tattoozubehör
URL;VALUE=URI:https://www.myauktion.com/versteigerung7641-position2439233-hornet-honey-stencil-250ml-tattoozubehoer.php
DESCRIPTION:MHD 09.2030 
UID:myauktion-7641-2439233
BEGIN:VALARM
ACTION:DISPLAY
DESCRIPTION:MHD 09.2030 
TRIGGER:-PT10M
END:VALARM
END:VEVENT
END:VCALENDAR