BEGIN:VCALENDAR
VERSION:2.0
PRODID:-//Goldgrube//myauktion.com//AT
CALSCALE:GREGORIAN
BEGIN:VEVENT
DTSTART:20260503T112200
DTEND:20260503T112230
LOCATION:Gewerbepark 13, 8562 Mooskirchen
DTSTAMP:20260419T142649
SUMMARY:MyAuktion: Ablauf Artikel Nr. 868763 Giordano loris Vino Rosé 750ml 
URL;VALUE=URI:https://www.myauktion.com/versteigerung7641-position2439236-giordano-loris-vino-rose-750ml.php
DESCRIPTION:
UID:myauktion-7641-2439236
BEGIN:VALARM
ACTION:DISPLAY
DESCRIPTION:
TRIGGER:-PT10M
END:VALARM
END:VEVENT
END:VCALENDAR