BEGIN:VCALENDAR
VERSION:2.0
PRODID:-//Goldgrube//myauktion.com//AT
CALSCALE:GREGORIAN
BEGIN:VEVENT
DTSTART:20260503T121300
DTEND:20260503T121330
LOCATION:Gewerbepark 13, 8562 Mooskirchen
DTSTAMP:20260419T192345
SUMMARY:MyAuktion: Ablauf Artikel Nr. 879032 Wurth Backaroma für Lebensmittel 1l
URL;VALUE=URI:https://www.myauktion.com/versteigerung7641-position2439245-wurth-backaroma-fuer-lebensmittel-1l.php
DESCRIPTION:MHD:31.07.2027
UID:myauktion-7641-2439245
BEGIN:VALARM
ACTION:DISPLAY
DESCRIPTION:MHD:31.07.2027
TRIGGER:-PT10M
END:VALARM
END:VEVENT
END:VCALENDAR