BEGIN:VCALENDAR
VERSION:2.0
PRODID:-//Goldgrube//myauktion.com//AT
CALSCALE:GREGORIAN
BEGIN:VEVENT
DTSTART:20260503T120100
DTEND:20260503T120130
LOCATION:Gewerbepark 13, 8562 Mooskirchen
DTSTAMP:20260419T154431
SUMMARY:MyAuktion: Ablauf Artikel Nr. 878562 Gym Beam Dextrose 1000g 
URL;VALUE=URI:https://www.myauktion.com/versteigerung7641-position2439246-gym-beam-dextrose-1000g.php
DESCRIPTION:MHD 04.2027
UID:myauktion-7641-2439246
BEGIN:VALARM
ACTION:DISPLAY
DESCRIPTION:MHD 04.2027
TRIGGER:-PT10M
END:VALARM
END:VEVENT
END:VCALENDAR