BEGIN:VCALENDAR
VERSION:2.0
PRODID:-//Goldgrube//myauktion.com//AT
CALSCALE:GREGORIAN
BEGIN:VEVENT
DTSTART:20260503T120200
DTEND:20260503T120230
LOCATION:Gewerbepark 13, 8562 Mooskirchen
DTSTAMP:20260419T151131
SUMMARY:MyAuktion: Ablauf Artikel Nr. 878570 Segafredo Zanetti Crema Caffé 1L
URL;VALUE=URI:https://www.myauktion.com/versteigerung7641-position2439253-segafredo-zanetti-crema-caffe-1l.php
DESCRIPTION:MHD 20.08.2026
UID:myauktion-7641-2439253
BEGIN:VALARM
ACTION:DISPLAY
DESCRIPTION:MHD 20.08.2026
TRIGGER:-PT10M
END:VALARM
END:VEVENT
END:VCALENDAR