BEGIN:VCALENDAR
VERSION:2.0
PRODID:-//Goldgrube//myauktion.com//AT
CALSCALE:GREGORIAN
BEGIN:VEVENT
DTSTART:20260503T114100
DTEND:20260503T114130
LOCATION:Gewerbepark 13, 8562 Mooskirchen
DTSTAMP:20260419T142646
SUMMARY:MyAuktion: Ablauf Artikel Nr. 876652 Autfit Clasdy Whey 500g 
URL;VALUE=URI:https://www.myauktion.com/versteigerung7641-position2439272-autfit-clasdy-whey-500g.php
DESCRIPTION:Mhd 09.26
UID:myauktion-7641-2439272
BEGIN:VALARM
ACTION:DISPLAY
DESCRIPTION:Mhd 09.26
TRIGGER:-PT10M
END:VALARM
END:VEVENT
END:VCALENDAR