BEGIN:VCALENDAR
VERSION:2.0
PRODID:-//Goldgrube//myauktion.com//AT
CALSCALE:GREGORIAN
BEGIN:VEVENT
DTSTART:20260503T123300
DTEND:20260503T123330
LOCATION:Gewerbepark 13, 8562 Mooskirchen
DTSTAMP:20260419T154432
SUMMARY:MyAuktion: Ablauf Artikel Nr. 888763 Niklnip Mini Drinks 18x4Stk 
URL;VALUE=URI:https://www.myauktion.com/versteigerung7641-position2439283-niklnip-mini-drinks-18x4stk.php
DESCRIPTION:MHD nicht ersichtlich 
UID:myauktion-7641-2439283
BEGIN:VALARM
ACTION:DISPLAY
DESCRIPTION:MHD nicht ersichtlich 
TRIGGER:-PT10M
END:VALARM
END:VEVENT
END:VCALENDAR