BEGIN:VCALENDAR
VERSION:2.0
PRODID:-//Goldgrube//myauktion.com//AT
CALSCALE:GREGORIAN
BEGIN:VEVENT
DTSTART:20260503T122900
DTEND:20260503T122930
LOCATION:Gewerbepark 13, 8562 Mooskirchen
DTSTAMP:20260422T102304
SUMMARY:MyAuktion: Ablauf Artikel Nr. 886762 50&50 Toscana 0,75l mit Zubehör lt Foto 
URL;VALUE=URI:https://www.myauktion.com/versteigerung7641-position2439305-50-3850-toscana-075l-mit-zubehoer-lt-foto.php
DESCRIPTION:Jahrgang 2010 
UID:myauktion-7641-2439305
BEGIN:VALARM
ACTION:DISPLAY
DESCRIPTION:Jahrgang 2010 
TRIGGER:-PT10M
END:VALARM
END:VEVENT
END:VCALENDAR