BEGIN:VCALENDAR
VERSION:2.0
PRODID:-//Goldgrube//myauktion.com//AT
CALSCALE:GREGORIAN
BEGIN:VEVENT
DTSTART:20260503T133200
DTEND:20260503T133230
LOCATION:Gewerbepark 13, 8562 Mooskirchen
DTSTAMP:20260419T154427
SUMMARY:MyAuktion: Ablauf Artikel Nr. 899277 Giordano Esclusivo Rosso 0,75l 
URL;VALUE=URI:https://www.myauktion.com/versteigerung7641-position2439318-giordano-esclusivo-rosso-075l.php
DESCRIPTION:
UID:myauktion-7641-2439318
BEGIN:VALARM
ACTION:DISPLAY
DESCRIPTION:
TRIGGER:-PT10M
END:VALARM
END:VEVENT
END:VCALENDAR