BEGIN:VCALENDAR
VERSION:2.0
PRODID:-//Goldgrube//myauktion.com//AT
CALSCALE:GREGORIAN
BEGIN:VEVENT
DTSTART:20260503T133800
DTEND:20260503T133830
LOCATION:Gewerbepark 13, 8562 Mooskirchen
DTSTAMP:20260419T154437
SUMMARY:MyAuktion: Ablauf Artikel Nr. 899278 Giordano Raggiante Mediterraneo 0,75l 
URL;VALUE=URI:https://www.myauktion.com/versteigerung7641-position2439320-giordano-raggiante-mediterraneo-075l.php
DESCRIPTION:
UID:myauktion-7641-2439320
BEGIN:VALARM
ACTION:DISPLAY
DESCRIPTION:
TRIGGER:-PT10M
END:VALARM
END:VEVENT
END:VCALENDAR