BEGIN:VCALENDAR
VERSION:2.0
PRODID:-//Goldgrube//myauktion.com//AT
CALSCALE:GREGORIAN
BEGIN:VEVENT
DTSTART:20260503T133900
DTEND:20260503T133930
LOCATION:Gewerbepark 13, 8562 Mooskirchen
DTSTAMP:20260419T154423
SUMMARY:MyAuktion: Ablauf Artikel Nr. 899278 Giordano Raggiante Mediterraneo 0,75l 
URL;VALUE=URI:https://www.myauktion.com/versteigerung7641-position2439321-giordano-raggiante-mediterraneo-075l.php
DESCRIPTION:
UID:myauktion-7641-2439321
BEGIN:VALARM
ACTION:DISPLAY
DESCRIPTION:
TRIGGER:-PT10M
END:VALARM
END:VEVENT
END:VCALENDAR