BEGIN:VCALENDAR
VERSION:2.0
PRODID:-//Goldgrube//myauktion.com//AT
CALSCALE:GREGORIAN
BEGIN:VEVENT
DTSTART:20260503T134100
DTEND:20260503T134130
LOCATION:Gewerbepark 13, 8562 Mooskirchen
DTSTAMP:20260419T154427
SUMMARY:MyAuktion: Ablauf Artikel Nr. 899279 Österreichische Sekt mit Aufschrift 0,75l 
URL;VALUE=URI:https://www.myauktion.com/versteigerung7641-position2439323-sterreichische-sekt-mit-aufschrift-075l.php
DESCRIPTION:
UID:myauktion-7641-2439323
BEGIN:VALARM
ACTION:DISPLAY
DESCRIPTION:
TRIGGER:-PT10M
END:VALARM
END:VEVENT
END:VCALENDAR