BEGIN:VCALENDAR
VERSION:2.0
PRODID:-//Goldgrube//myauktion.com//AT
CALSCALE:GREGORIAN
BEGIN:VEVENT
DTSTART:20260503T134800
DTEND:20260503T134830
LOCATION:Gewerbepark 13, 8562 Mooskirchen
DTSTAMP:20260419T154430
SUMMARY:MyAuktion: Ablauf Artikel Nr. 899289 Schmid rose 0,75l 
URL;VALUE=URI:https://www.myauktion.com/versteigerung7641-position2439330-schmid-rose-075l.php
DESCRIPTION:Jahrgang 2024
UID:myauktion-7641-2439330
BEGIN:VALARM
ACTION:DISPLAY
DESCRIPTION:Jahrgang 2024
TRIGGER:-PT10M
END:VALARM
END:VEVENT
END:VCALENDAR