BEGIN:VCALENDAR
VERSION:2.0
PRODID:-//Goldgrube//myauktion.com//AT
CALSCALE:GREGORIAN
BEGIN:VEVENT
DTSTART:20260503T135000
DTEND:20260503T135030
LOCATION:Gewerbepark 13, 8562 Mooskirchen
DTSTAMP:20260419T154427
SUMMARY:MyAuktion: Ablauf Artikel Nr. 899314 Giordano Lori&#39;s 0,75 I 
URL;VALUE=URI:https://www.myauktion.com/versteigerung7641-position2439332-giordano-lori-39s-075-i.php
DESCRIPTION:
UID:myauktion-7641-2439332
BEGIN:VALARM
ACTION:DISPLAY
DESCRIPTION:
TRIGGER:-PT10M
END:VALARM
END:VEVENT
END:VCALENDAR