BEGIN:VCALENDAR
VERSION:2.0
PRODID:-//Goldgrube//myauktion.com//AT
CALSCALE:GREGORIAN
BEGIN:VEVENT
DTSTART:20260503T135300
DTEND:20260503T135330
LOCATION:Gewerbepark 13, 8562 Mooskirchen
DTSTAMP:20260419T192347
SUMMARY:MyAuktion: Ablauf Artikel Nr. 899359 Natural Pedacola 1l
URL;VALUE=URI:https://www.myauktion.com/versteigerung7641-position2439336-natural-pedacola-1l.php
DESCRIPTION:
UID:myauktion-7641-2439336
BEGIN:VALARM
ACTION:DISPLAY
DESCRIPTION:
TRIGGER:-PT10M
END:VALARM
END:VEVENT
END:VCALENDAR