BEGIN:VCALENDAR
VERSION:2.0
PRODID:-//Goldgrube//myauktion.com//AT
CALSCALE:GREGORIAN
BEGIN:VEVENT
DTSTART:20260503T135900
DTEND:20260503T135930
LOCATION:Gewerbepark 13, 8562 Mooskirchen
DTSTAMP:20260419T154435
SUMMARY:MyAuktion: Ablauf Artikel Nr. 899368 Giordano Appassimento Puglia 0,75l 
URL;VALUE=URI:https://www.myauktion.com/versteigerung7641-position2439341-giordano-appassimento-puglia-075l.php
DESCRIPTION:
UID:myauktion-7641-2439341
BEGIN:VALARM
ACTION:DISPLAY
DESCRIPTION:
TRIGGER:-PT10M
END:VALARM
END:VEVENT
END:VCALENDAR