BEGIN:VCALENDAR
VERSION:2.0
PRODID:-//Goldgrube//myauktion.com//AT
CALSCALE:GREGORIAN
BEGIN:VEVENT
DTSTART:20260503T140100
DTEND:20260503T140130
LOCATION:Gewerbepark 13, 8562 Mooskirchen
DTSTAMP:20260419T154427
SUMMARY:MyAuktion: Ablauf Artikel Nr. 899381 Les Legendes Bordeaux 0,75l 
URL;VALUE=URI:https://www.myauktion.com/versteigerung7641-position2439343-les-legendes-bordeaux-075l.php
DESCRIPTION:Jahrgang 2023
UID:myauktion-7641-2439343
BEGIN:VALARM
ACTION:DISPLAY
DESCRIPTION:Jahrgang 2023
TRIGGER:-PT10M
END:VALARM
END:VEVENT
END:VCALENDAR