BEGIN:VCALENDAR
VERSION:2.0
PRODID:-//Goldgrube//myauktion.com//AT
CALSCALE:GREGORIAN
BEGIN:VEVENT
DTSTART:20260503T132100
DTEND:20260503T132130
LOCATION:Gewerbepark 13, 8562 Mooskirchen
DTSTAMP:20260422T065817
SUMMARY:MyAuktion: Ablauf Artikel Nr. 955330 Schandl&#39;s Weingut Love Bird Frizzante je 0,75L
URL;VALUE=URI:https://www.myauktion.com/versteigerung7640-position2439773-schandl-39s-weingut-love-bird-frizzante-je-075l.php
DESCRIPTION:
UID:myauktion-7640-2439773
BEGIN:VALARM
ACTION:DISPLAY
DESCRIPTION:
TRIGGER:-PT10M
END:VALARM
END:VEVENT
END:VCALENDAR