BEGIN:VCALENDAR
VERSION:2.0
PRODID:-//Goldgrube//myauktion.com//AT
CALSCALE:GREGORIAN
BEGIN:VEVENT
DTSTART:20260503T163400
DTEND:20260503T163430
LOCATION:Gewerbepark 13, 8562 Mooskirchen
DTSTAMP:20260419T192346
SUMMARY:MyAuktion: Ablauf Artikel Nr. 956352 Develey Süßer Weisswurst Senf  875ml
URL;VALUE=URI:https://www.myauktion.com/versteigerung7640-position2439776-develey-suesser-weisswurst-senf-875ml.php
DESCRIPTION:Mhd 09.07.26
UID:myauktion-7640-2439776
BEGIN:VALARM
ACTION:DISPLAY
DESCRIPTION:Mhd 09.07.26
TRIGGER:-PT10M
END:VALARM
END:VEVENT
END:VCALENDAR