BEGIN:VCALENDAR
VERSION:2.0
PRODID:-//Goldgrube//myauktion.com//AT
CALSCALE:GREGORIAN
BEGIN:VEVENT
DTSTART:20260503T163500
DTEND:20260503T163530
LOCATION:Gewerbepark 13, 8562 Mooskirchen
DTSTAMP:20260419T145055
SUMMARY:MyAuktion: Ablauf Artikel Nr. 956353 Develey Paprika Relisch 875ml
URL;VALUE=URI:https://www.myauktion.com/versteigerung7640-position2439777-develey-paprika-relisch-875ml.php
DESCRIPTION:Mhd 05.10.26
UID:myauktion-7640-2439777
BEGIN:VALARM
ACTION:DISPLAY
DESCRIPTION:Mhd 05.10.26
TRIGGER:-PT10M
END:VALARM
END:VEVENT
END:VCALENDAR