BEGIN:VCALENDAR
VERSION:2.0
PRODID:-//Goldgrube//myauktion.com//AT
CALSCALE:GREGORIAN
BEGIN:VEVENT
DTSTART:20260503T163600
DTEND:20260503T163630
LOCATION:Gewerbepark 13, 8562 Mooskirchen
DTSTAMP:20260419T192353
SUMMARY:MyAuktion: Ablauf Artikel Nr. 956354 Devwlwy Sesam Sauce 300ml
URL;VALUE=URI:https://www.myauktion.com/versteigerung7640-position2439779-devwlwy-sesam-sauce-300ml.php
DESCRIPTION:Mhd 15.10.26
UID:myauktion-7640-2439779
BEGIN:VALARM
ACTION:DISPLAY
DESCRIPTION:Mhd 15.10.26
TRIGGER:-PT10M
END:VALARM
END:VEVENT
END:VCALENDAR