BEGIN:VCALENDAR
VERSION:2.0
PRODID:-//Goldgrube//myauktion.com//AT
CALSCALE:GREGORIAN
BEGIN:VEVENT
DTSTART:20260503T163800
DTEND:20260503T163830
LOCATION:Gewerbepark 13, 8562 Mooskirchen
DTSTAMP:20260419T192346
SUMMARY:MyAuktion: Ablauf Artikel Nr. 956356 Develey Onion Relisch 875ml 
URL;VALUE=URI:https://www.myauktion.com/versteigerung7640-position2439783-develey-onion-relisch-875ml.php
DESCRIPTION:Mhd 29.09.26
UID:myauktion-7640-2439783
BEGIN:VALARM
ACTION:DISPLAY
DESCRIPTION:Mhd 29.09.26
TRIGGER:-PT10M
END:VALARM
END:VEVENT
END:VCALENDAR