BEGIN:VCALENDAR
VERSION:2.0
PRODID:-//Goldgrube//myauktion.com//AT
CALSCALE:GREGORIAN
BEGIN:VEVENT
DTSTART:20260503T132700
DTEND:20260503T132730
LOCATION:Gewerbepark 13, 8562 Mooskirchen
DTSTAMP:20260419T220151
SUMMARY:MyAuktion: Ablauf Artikel Nr. 955336 Schandl&#39;s Weingut Abendrot Blaufränkisch je 0,75L
URL;VALUE=URI:https://www.myauktion.com/versteigerung7640-position2439785-schandl-39s-weingut-abendrot-blaufraenkisch-je-075l.php
DESCRIPTION:
UID:myauktion-7640-2439785
BEGIN:VALARM
ACTION:DISPLAY
DESCRIPTION:
TRIGGER:-PT10M
END:VALARM
END:VEVENT
END:VCALENDAR