BEGIN:VCALENDAR
VERSION:2.0
PRODID:-//Goldgrube//myauktion.com//AT
CALSCALE:GREGORIAN
BEGIN:VEVENT
DTSTART:20260503T164000
DTEND:20260503T164030
LOCATION:Gewerbepark 13, 8562 Mooskirchen
DTSTAMP:20260419T192350
SUMMARY:MyAuktion: Ablauf Artikel Nr. 956358 Moruga Cacao Tabasqueño Mexico 350g 
URL;VALUE=URI:https://www.myauktion.com/versteigerung7640-position2439787-moruga-cacao-tabasqueo-mexico-350g.php
DESCRIPTION:Mhd 27.06.27
UID:myauktion-7640-2439787
BEGIN:VALARM
ACTION:DISPLAY
DESCRIPTION:Mhd 27.06.27
TRIGGER:-PT10M
END:VALARM
END:VEVENT
END:VCALENDAR