BEGIN:VCALENDAR
VERSION:2.0
PRODID:-//Goldgrube//myauktion.com//AT
CALSCALE:GREGORIAN
BEGIN:VEVENT
DTSTART:20260503T164100
DTEND:20260503T164130
LOCATION:Gewerbepark 13, 8562 Mooskirchen
DTSTAMP:20260419T192351
SUMMARY:MyAuktion: Ablauf Artikel Nr. 956359 Red Bull The Ice Edition  0.25l x 24stk 
URL;VALUE=URI:https://www.myauktion.com/versteigerung7640-position2439791-red-bull-the-ice-edition-025l-x-24stk.php
DESCRIPTION:Mhd 13.08.26. Pfand wird extra berechnet. 
UID:myauktion-7640-2439791
BEGIN:VALARM
ACTION:DISPLAY
DESCRIPTION:Mhd 13.08.26. Pfand wird extra berechnet. 
TRIGGER:-PT10M
END:VALARM
END:VEVENT
END:VCALENDAR