BEGIN:VCALENDAR
VERSION:2.0
PRODID:-//Goldgrube//myauktion.com//AT
CALSCALE:GREGORIAN
BEGIN:VEVENT
DTSTART:20260503T133300
DTEND:20260503T133330
LOCATION:Gewerbepark 13, 8562 Mooskirchen
DTSTAMP:20260419T220152
SUMMARY:MyAuktion: Ablauf Artikel Nr. 955342 Erich & Mario Migisch Blaufränkisch je 0,75L
URL;VALUE=URI:https://www.myauktion.com/versteigerung7640-position2439794-erich-38-mario-migisch-blaufraenkisch-je-075l.php
DESCRIPTION:
UID:myauktion-7640-2439794
BEGIN:VALARM
ACTION:DISPLAY
DESCRIPTION:
TRIGGER:-PT10M
END:VALARM
END:VEVENT
END:VCALENDAR