BEGIN:VCALENDAR
VERSION:2.0
PRODID:-//Goldgrube//myauktion.com//AT
CALSCALE:GREGORIAN
BEGIN:VEVENT
DTSTART:20260503T133400
DTEND:20260503T133430
LOCATION:Gewerbepark 13, 8562 Mooskirchen
DTSTAMP:20260419T142651
SUMMARY:MyAuktion: Ablauf Artikel Nr. 955343 Weingut Lassl Rosalia Dac Rosé je 0,75L
URL;VALUE=URI:https://www.myauktion.com/versteigerung7640-position2439795-weingut-lassl-rosalia-dac-rose-je-075l.php
DESCRIPTION:
UID:myauktion-7640-2439795
BEGIN:VALARM
ACTION:DISPLAY
DESCRIPTION:
TRIGGER:-PT10M
END:VALARM
END:VEVENT
END:VCALENDAR