BEGIN:VCALENDAR
VERSION:2.0
PRODID:-//Goldgrube//myauktion.com//AT
CALSCALE:GREGORIAN
BEGIN:VEVENT
DTSTART:20260503T164200
DTEND:20260503T164230
LOCATION:Gewerbepark 13, 8562 Mooskirchen
DTSTAMP:20260419T192350
SUMMARY:MyAuktion: Ablauf Artikel Nr. 956360 Missio Schokopralinen 120g 
URL;VALUE=URI:https://www.myauktion.com/versteigerung7640-position2439796-missio-schokopralinen-120g.php
DESCRIPTION:Mhd 06.05.26
UID:myauktion-7640-2439796
BEGIN:VALARM
ACTION:DISPLAY
DESCRIPTION:Mhd 06.05.26
TRIGGER:-PT10M
END:VALARM
END:VEVENT
END:VCALENDAR