BEGIN:VCALENDAR
VERSION:2.0
PRODID:-//Goldgrube//myauktion.com//AT
CALSCALE:GREGORIAN
BEGIN:VEVENT
DTSTART:20260503T133600
DTEND:20260503T133630
LOCATION:Gewerbepark 13, 8562 Mooskirchen
DTSTAMP:20260419T151131
SUMMARY:MyAuktion: Ablauf Artikel Nr. 955345 Märzenklamm Williamsbirne je 0,5L
URL;VALUE=URI:https://www.myauktion.com/versteigerung7640-position2439798-maerzenklamm-williamsbirne-je-05l.php
DESCRIPTION:
UID:myauktion-7640-2439798
BEGIN:VALARM
ACTION:DISPLAY
DESCRIPTION:
TRIGGER:-PT10M
END:VALARM
END:VEVENT
END:VCALENDAR