BEGIN:VCALENDAR
VERSION:2.0
PRODID:-//Goldgrube//myauktion.com//AT
CALSCALE:GREGORIAN
BEGIN:VEVENT
DTSTART:20260503T164500
DTEND:20260503T164530
LOCATION:Gewerbepark 13, 8562 Mooskirchen
DTSTAMP:20260419T192354
SUMMARY:MyAuktion: Ablauf Artikel Nr. 956361 Whittard Lychee&Rose instant Tee 450g 
URL;VALUE=URI:https://www.myauktion.com/versteigerung7640-position2439804-whittard-lychee-38rose-instant-tee-450g.php
DESCRIPTION:Mhd 07.11.26
UID:myauktion-7640-2439804
BEGIN:VALARM
ACTION:DISPLAY
DESCRIPTION:Mhd 07.11.26
TRIGGER:-PT10M
END:VALARM
END:VEVENT
END:VCALENDAR