BEGIN:VCALENDAR
VERSION:2.0
PRODID:-//Goldgrube//myauktion.com//AT
CALSCALE:GREGORIAN
BEGIN:VEVENT
DTSTART:20260503T164600
DTEND:20260503T164630
LOCATION:Gewerbepark 13, 8562 Mooskirchen
DTSTAMP:20260419T162730
SUMMARY:MyAuktion: Ablauf Artikel Nr. 956362 Monchique natürliches alkalisches Mineralwasser 6x 720ml 
URL;VALUE=URI:https://www.myauktion.com/versteigerung7640-position2439805-monchique-natuerliches-alkalisches-mineralwasser-6x-720ml.php
DESCRIPTION:Mhd 09.27
UID:myauktion-7640-2439805
BEGIN:VALARM
ACTION:DISPLAY
DESCRIPTION:Mhd 09.27
TRIGGER:-PT10M
END:VALARM
END:VEVENT
END:VCALENDAR