BEGIN:VCALENDAR
VERSION:2.0
PRODID:-//Goldgrube//myauktion.com//AT
CALSCALE:GREGORIAN
BEGIN:VEVENT
DTSTART:20260503T164800
DTEND:20260503T164830
LOCATION:Gewerbepark 13, 8562 Mooskirchen
DTSTAMP:20260419T142647
SUMMARY:MyAuktion: Ablauf Artikel Nr. 956363 Mill & Mortar Black flake salt 25g 
URL;VALUE=URI:https://www.myauktion.com/versteigerung7640-position2439807-mill-38-mortar-black-flake-salt-25g.php
DESCRIPTION:Mhd 09.26
UID:myauktion-7640-2439807
BEGIN:VALARM
ACTION:DISPLAY
DESCRIPTION:Mhd 09.26
TRIGGER:-PT10M
END:VALARM
END:VEVENT
END:VCALENDAR