BEGIN:VCALENDAR
VERSION:2.0
PRODID:-//Goldgrube//myauktion.com//AT
CALSCALE:GREGORIAN
BEGIN:VEVENT
DTSTART:20260503T134300
DTEND:20260503T134330
LOCATION:Gewerbepark 13, 8562 Mooskirchen
DTSTAMP:20260419T142648
SUMMARY:MyAuktion: Ablauf Artikel Nr. 955352 Mantlerhof Grüner Veltliner je 0,75L
URL;VALUE=URI:https://www.myauktion.com/versteigerung7640-position2439808-mantlerhof-gruener-veltliner-je-075l.php
DESCRIPTION:
UID:myauktion-7640-2439808
BEGIN:VALARM
ACTION:DISPLAY
DESCRIPTION:
TRIGGER:-PT10M
END:VALARM
END:VEVENT
END:VCALENDAR