BEGIN:VCALENDAR
VERSION:2.0
PRODID:-//Goldgrube//myauktion.com//AT
CALSCALE:GREGORIAN
BEGIN:VEVENT
DTSTART:20260503T135200
DTEND:20260503T135230
LOCATION:Gewerbepark 13, 8562 Mooskirchen
DTSTAMP:20260419T142642
SUMMARY:MyAuktion: Ablauf Artikel Nr. 955356 Cup&Cino Vanilla Cream je 750g
URL;VALUE=URI:https://www.myauktion.com/versteigerung7640-position2439821-cup-38cino-vanilla-cream-je-750g.php
DESCRIPTION:MHD: 05/2026
UID:myauktion-7640-2439821
BEGIN:VALARM
ACTION:DISPLAY
DESCRIPTION:MHD: 05/2026
TRIGGER:-PT10M
END:VALARM
END:VEVENT
END:VCALENDAR