BEGIN:VCALENDAR
VERSION:2.0
PRODID:-//Goldgrube//myauktion.com//AT
CALSCALE:GREGORIAN
BEGIN:VEVENT
DTSTART:20260503T170900
DTEND:20260503T170930
LOCATION:Gewerbepark 13, 8562 Mooskirchen
DTSTAMP:20260421T203900
SUMMARY:MyAuktion: Ablauf Artikel Nr. 956374 Pumpkin Bio Quetschie Kürbis, Süßkartoffeln, Banane, Blaubeereb100g x 8stk 
URL;VALUE=URI:https://www.myauktion.com/versteigerung7640-position2439828-pumpkin-bio-quetschie-kuerbis-suesskartoffeln-banane-blaubeereb100g-x-8stk.php
DESCRIPTION:Mhd 09.12.26
UID:myauktion-7640-2439828
BEGIN:VALARM
ACTION:DISPLAY
DESCRIPTION:Mhd 09.12.26
TRIGGER:-PT10M
END:VALARM
END:VEVENT
END:VCALENDAR