BEGIN:VCALENDAR
VERSION:2.0
PRODID:-//Goldgrube//myauktion.com//AT
CALSCALE:GREGORIAN
BEGIN:VEVENT
DTSTART:20260503T140100
DTEND:20260503T140130
LOCATION:Gewerbepark 13, 8562 Mooskirchen
DTSTAMP:20260419T151130
SUMMARY:MyAuktion: Ablauf Artikel Nr. 955361 Nabio Cranberry Creme mit Chilli je 135g 2er Set
URL;VALUE=URI:https://www.myauktion.com/versteigerung7640-position2439829-nabio-cranberry-creme-mit-chilli-je-135g-2er-set.php
DESCRIPTION:MHD: 11.06.2026
UID:myauktion-7640-2439829
BEGIN:VALARM
ACTION:DISPLAY
DESCRIPTION:MHD: 11.06.2026
TRIGGER:-PT10M
END:VALARM
END:VEVENT
END:VCALENDAR