BEGIN:VCALENDAR
VERSION:2.0
PRODID:-//Goldgrube//myauktion.com//AT
CALSCALE:GREGORIAN
BEGIN:VEVENT
DTSTART:20260503T171200
DTEND:20260503T171230
LOCATION:Gewerbepark 13, 8562 Mooskirchen
DTSTAMP:20260423T041109
SUMMARY:MyAuktion: Ablauf Artikel Nr. 956377 Pumpkin Bio Quetschie Süßkartoffeln, Blaubeeren, Birne, Rote Beete, Hafer 100g x 8stk 
URL;VALUE=URI:https://www.myauktion.com/versteigerung7640-position2439833-pumpkin-bio-quetschie-suesskartoffeln-blaubeeren-birne-rote-beete-hafer-100g-x-8stk.php
DESCRIPTION:Mhd 01.08m26
UID:myauktion-7640-2439833
BEGIN:VALARM
ACTION:DISPLAY
DESCRIPTION:Mhd 01.08m26
TRIGGER:-PT10M
END:VALARM
END:VEVENT
END:VCALENDAR