BEGIN:VCALENDAR
VERSION:2.0
PRODID:-//Goldgrube//myauktion.com//AT
CALSCALE:GREGORIAN
BEGIN:VEVENT
DTSTART:20260503T171300
DTEND:20260503T171330
LOCATION:Gewerbepark 13, 8562 Mooskirchen
DTSTAMP:20260420T162243
SUMMARY:MyAuktion: Ablauf Artikel Nr. 956378 Pumpkin Bio Quetschie  Karotte, Kürbis,Süßkartoffeln, Mais 100g x 8stk 
URL;VALUE=URI:https://www.myauktion.com/versteigerung7640-position2439834-pumpkin-bio-quetschie-karotte-kuerbissuesskartoffeln-mais-100g-x-8stk.php
DESCRIPTION:Mhd 09.01.27
UID:myauktion-7640-2439834
BEGIN:VALARM
ACTION:DISPLAY
DESCRIPTION:Mhd 09.01.27
TRIGGER:-PT10M
END:VALARM
END:VEVENT
END:VCALENDAR