BEGIN:VCALENDAR
VERSION:2.0
PRODID:-//Goldgrube//myauktion.com//AT
CALSCALE:GREGORIAN
BEGIN:VEVENT
DTSTART:20260503T171400
DTEND:20260503T171430
LOCATION:Gewerbepark 13, 8562 Mooskirchen
DTSTAMP:20260419T192350
SUMMARY:MyAuktion: Ablauf Artikel Nr. 956379 Pumpkin Bio Quetschie Kürbis, Birne, Apfel, Pflaume, Hafer 100g x8stk 
URL;VALUE=URI:https://www.myauktion.com/versteigerung7640-position2439835-pumpkin-bio-quetschie-kuerbis-birne-apfel-pflaume-hafer-100g-x8stk.php
DESCRIPTION:Mhd 01.08.26
UID:myauktion-7640-2439835
BEGIN:VALARM
ACTION:DISPLAY
DESCRIPTION:Mhd 01.08.26
TRIGGER:-PT10M
END:VALARM
END:VEVENT
END:VCALENDAR