BEGIN:VCALENDAR
VERSION:2.0
PRODID:-//Goldgrube//myauktion.com//AT
CALSCALE:GREGORIAN
BEGIN:VEVENT
DTSTART:20260503T171700
DTEND:20260503T171730
LOCATION:Gewerbepark 13, 8562 Mooskirchen
DTSTAMP:20260419T192344
SUMMARY:MyAuktion: Ablauf Artikel Nr. 956382 Pumpkin Bio Quetschie Mango,Karotte, Pastinake, Hafer 100g x 8stk 
URL;VALUE=URI:https://www.myauktion.com/versteigerung7640-position2439839-pumpkin-bio-quetschie-mangokarotte-pastinake-hafer-100g-x-8stk.php
DESCRIPTION:Mhd 11.09.26
UID:myauktion-7640-2439839
BEGIN:VALARM
ACTION:DISPLAY
DESCRIPTION:Mhd 11.09.26
TRIGGER:-PT10M
END:VALARM
END:VEVENT
END:VCALENDAR