BEGIN:VCALENDAR
VERSION:2.0
PRODID:-//Goldgrube//myauktion.com//AT
CALSCALE:GREGORIAN
BEGIN:VEVENT
DTSTART:20260503T141200
DTEND:20260503T141230
LOCATION:Gewerbepark 13, 8562 Mooskirchen
DTSTAMP:20260419T154434
SUMMARY:MyAuktion: Ablauf Artikel Nr. 955365 Seewald Ortho Gedächtnis TriKomplex je 57g
URL;VALUE=URI:https://www.myauktion.com/versteigerung7640-position2439841-seewald-ortho-gedaechtnis-trikomplex-je-57g.php
DESCRIPTION:MHD: 03/2028
UID:myauktion-7640-2439841
BEGIN:VALARM
ACTION:DISPLAY
DESCRIPTION:MHD: 03/2028
TRIGGER:-PT10M
END:VALARM
END:VEVENT
END:VCALENDAR