BEGIN:VCALENDAR
VERSION:2.0
PRODID:-//Goldgrube//myauktion.com//AT
CALSCALE:GREGORIAN
BEGIN:VEVENT
DTSTART:20260503T150500
DTEND:20260503T150530
LOCATION:Gewerbepark 13, 8562 Mooskirchen
DTSTAMP:20260419T162732
SUMMARY:MyAuktion: Ablauf Artikel Nr. 956216 Pumpkin Bio Süßkartoffeln, Apfel, Spinat, amais, Erbsen  100g x 8stk
URL;VALUE=URI:https://www.myauktion.com/versteigerung7640-position2439843-pumpkin-bio-suesskartoffeln-apfel-spinat-amais-erbsen-100g-x-8stk.php
DESCRIPTION:Mhd 08.10.26
UID:myauktion-7640-2439843
BEGIN:VALARM
ACTION:DISPLAY
DESCRIPTION:Mhd 08.10.26
TRIGGER:-PT10M
END:VALARM
END:VEVENT
END:VCALENDAR