BEGIN:VCALENDAR
VERSION:2.0
PRODID:-//Goldgrube//myauktion.com//AT
CALSCALE:GREGORIAN
BEGIN:VEVENT
DTSTART:20260503T141500
DTEND:20260503T141530
LOCATION:Gewerbepark 13, 8562 Mooskirchen
DTSTAMP:20260419T154435
SUMMARY:MyAuktion: Ablauf Artikel Nr. 955367 Seewald Ortho Zink Forte 30 je 34g
URL;VALUE=URI:https://www.myauktion.com/versteigerung7640-position2439845-seewald-ortho-zink-forte-30-je-34g.php
DESCRIPTION:MHD: 02/2028
UID:myauktion-7640-2439845
BEGIN:VALARM
ACTION:DISPLAY
DESCRIPTION:MHD: 02/2028
TRIGGER:-PT10M
END:VALARM
END:VEVENT
END:VCALENDAR